BEGIN:VCALENDAR
VERSION:2.0
PRODID:-//Festival Héritage de Sainte-Hélène - ECPv6.15.20//NONSGML v1.0//EN
CALSCALE:GREGORIAN
METHOD:PUBLISH
X-ORIGINAL-URL:https://festivalstehelene.com
X-WR-CALDESC:Évènements pour Festival Héritage de Sainte-Hélène
REFRESH-INTERVAL;VALUE=DURATION:PT1H
X-Robots-Tag:noindex
X-PUBLISHED-TTL:PT1H
BEGIN:VTIMEZONE
TZID:America/Toronto
BEGIN:DAYLIGHT
TZOFFSETFROM:-0500
TZOFFSETTO:-0400
TZNAME:EDT
DTSTART:20250309T070000
END:DAYLIGHT
BEGIN:STANDARD
TZOFFSETFROM:-0400
TZOFFSETTO:-0500
TZNAME:EST
DTSTART:20251102T060000
END:STANDARD
BEGIN:DAYLIGHT
TZOFFSETFROM:-0500
TZOFFSETTO:-0400
TZNAME:EDT
DTSTART:20260308T070000
END:DAYLIGHT
BEGIN:STANDARD
TZOFFSETFROM:-0400
TZOFFSETTO:-0500
TZNAME:EST
DTSTART:20261101T060000
END:STANDARD
BEGIN:DAYLIGHT
TZOFFSETFROM:-0500
TZOFFSETTO:-0400
TZNAME:EDT
DTSTART:20270314T070000
END:DAYLIGHT
BEGIN:STANDARD
TZOFFSETFROM:-0400
TZOFFSETTO:-0500
TZNAME:EST
DTSTART:20271107T060000
END:STANDARD
END:VTIMEZONE
BEGIN:VEVENT
DTSTART;TZID=America/Toronto:20260419T100000
DTEND;TZID=America/Toronto:20260419T140000
DTSTAMP:20260421T101624
CREATED:20260419T200344Z
LAST-MODIFIED:20260419T200344Z
UID:2682-1776592800-1776607200@festivalstehelene.com
SUMMARY:Zone familiale- 18 juillet 2026
DESCRIPTION:Présenté par \nPlusieurs activités seront offertes!
URL:https://festivalstehelene.com/event/zone-familiale-18-juillet-2026/
LOCATION:Parc Adélard-Lapointe\, 6003 Rue Adélard-Lapointe\, Sainte-Hélène-de-Kamouraska\, Québec\, G0L 3J0\, Canada
CATEGORIES:Activités,Famille
END:VEVENT
END:VCALENDAR