BEGIN:VCALENDAR
VERSION:2.0
PRODID:-//Festival Héritage de Sainte-Hélène - ECPv6.15.20//NONSGML v1.0//EN
CALSCALE:GREGORIAN
METHOD:PUBLISH
X-ORIGINAL-URL:https://festivalstehelene.com
X-WR-CALDESC:Évènements pour Festival Héritage de Sainte-Hélène
REFRESH-INTERVAL;VALUE=DURATION:PT1H
X-Robots-Tag:noindex
X-PUBLISHED-TTL:PT1H
BEGIN:VTIMEZONE
TZID:America/Toronto
BEGIN:DAYLIGHT
TZOFFSETFROM:-0500
TZOFFSETTO:-0400
TZNAME:EDT
DTSTART:20250309T070000
END:DAYLIGHT
BEGIN:STANDARD
TZOFFSETFROM:-0400
TZOFFSETTO:-0500
TZNAME:EST
DTSTART:20251102T060000
END:STANDARD
BEGIN:DAYLIGHT
TZOFFSETFROM:-0500
TZOFFSETTO:-0400
TZNAME:EDT
DTSTART:20260308T070000
END:DAYLIGHT
BEGIN:STANDARD
TZOFFSETFROM:-0400
TZOFFSETTO:-0500
TZNAME:EST
DTSTART:20261101T060000
END:STANDARD
BEGIN:DAYLIGHT
TZOFFSETFROM:-0500
TZOFFSETTO:-0400
TZNAME:EDT
DTSTART:20270314T070000
END:DAYLIGHT
BEGIN:STANDARD
TZOFFSETFROM:-0400
TZOFFSETTO:-0500
TZNAME:EST
DTSTART:20271107T060000
END:STANDARD
END:VTIMEZONE
BEGIN:VEVENT
DTSTART;TZID=America/Toronto:20260717T200000
DTEND;TZID=America/Toronto:20260718T013000
DTSTAMP:20260420T130351
CREATED:20260329T171644Z
LAST-MODIFIED:20260417T181120Z
UID:2443-1784318400-1784338200@festivalstehelene.com
SUMMARY:Soirée du 17 juillet 2026
DESCRIPTION:  \n \nP’tit gros bison 20H à 21H30 \nRSVP 21H45 à 23H15 \nHommage – ACDC Expérience 23H30 à 1H30
URL:https://festivalstehelene.com/event/soiree-du-17-juillet-2026/
LOCATION:Privé : Chapiteau\, 531 Rte de l'Église Sud\, Sainte-Hélène-de-Kamouraska\, Québec\, G0L 3J0\, Canada
CATEGORIES:Spectacles
END:VEVENT
END:VCALENDAR